BEGIN:VCALENDAR
VERSION:2.0
PRODID:-//eventon.com NONSGML v1.0//EN
CALSCALE:GREGORIAN
METHOD:PUBLISH
BEGIN:VEVENT
UID:69e9d754e9e76
DTSTAMP:20260423T082452Z
DTSTART:20250807T230000Z
DTEND:20250807T230000Z
LOCATION:https://us02web.zoom.us/meeting/register/hjZFMqNBS3CUjoyrFFi5pg
SUMMARY:Cadena perpetua en el calabozo del Castillo de San Cristóbal
DESCRIPTION:La Fundación Felisa Rincón de Gautier y la Asociación de His
 toria del Viejo San Juan la invitan a la charla: Cadena perpetua en el cala
 bozo del Castillo de San Cristóbal. Conferenciante: Carlos Almodóvar\nhtt
 ps://museofelisarincon.com/events/cadena-perpetua-en-el-calabozo-del-castil
 lo-de-san-cristobal/var/event_access
URL:https://museofelisarincon.com/events/cadena-perpetua-en-el-calabozo-del-castillo-de-san-cristobal/var/event_access
END:VEVENT
END:VCALENDAR