BEGIN:VCALENDAR
VERSION:2.0
PRODID:-//eventon.com NONSGML v1.0//EN
CALSCALE:GREGORIAN
METHOD:PUBLISH
BEGIN:VEVENT
UID:69e4d13b7d86b
DTSTAMP:20260419T125731Z
DTSTART:20250430T230000Z
DTEND:20250501T035900Z
LOCATION:https://us02web.zoom.us/meeting/register/7A5N0TkGQBeU6M2NLksiww
SUMMARY:El sueño de doña Fela
DESCRIPTION:La Fundación Felisa Rincón de Gautier y la Asociación de His
 toria del Viejo San Juan la invitan a la charla: El sueño de doña Fela. 
 Conferenciante: Rosa Ibarra\nhttps://museofelisarincon.com/events/el-sueno-
 de-dona-fela/var/event_access
URL:https://museofelisarincon.com/events/el-sueno-de-dona-fela/var/event_access
END:VEVENT
END:VCALENDAR