BEGIN:VCALENDAR
VERSION:2.0
PRODID:-//eventon.com NONSGML v1.0//EN
CALSCALE:GREGORIAN
METHOD:PUBLISH
BEGIN:VEVENT
UID:69e9d78444eae
DTSTAMP:20260423T082540Z
DTSTART:20220915T230000Z
DTEND:20220916T035000Z
LOCATION:https://us02web.zoom.us/meeting/register/tZYqfu-pqTgrH9A6RGYd5Q8v29N1jI3DZnDJ
SUMMARY:Charla - La Catedral de San Juan Bautista de Puerto Rico
DESCRIPTION:Charla - La Catedral de San Juan Bautista de Puerto Rico\nhttps
 ://museofelisarincon.com/events/charla-la-catedral-de-san-juan-bautista-de-
 puerto-rico/var/event_access
URL:https://museofelisarincon.com/events/charla-la-catedral-de-san-juan-bautista-de-puerto-rico/var/event_access
END:VEVENT
END:VCALENDAR