BEGIN:VCALENDAR
VERSION:2.0
PRODID:-//eventon.com NONSGML v1.0//EN
CALSCALE:GREGORIAN
METHOD:PUBLISH
BEGIN:VEVENT
UID:69e9d74709b92
DTSTAMP:20260423T082439Z
DTSTART:20220630T150000Z
DTEND:20220630T170000Z
LOCATION:Fundación Felisa Rincón de Gautier 51 Caleta de San Juan
SUMMARY:Breve historia de los cementerios en Puerto Rico
DESCRIPTION:Se reseñará sobre la historia de los cementerios en Puerto Ri
 co.\nhttps://museofelisarincon.com/events/breve-historia-de-los-cementerios
 -en-puerto-rico/
URL:https://museofelisarincon.com/events/breve-historia-de-los-cementerios-en-puerto-rico/
END:VEVENT
END:VCALENDAR